BEGIN:VCALENDAR
VERSION:2.0
PRODID:-//STTKN Ungaran - ECPv5.14.1//NONSGML v1.0//EN
CALSCALE:GREGORIAN
METHOD:PUBLISH
X-WR-CALNAME:STTKN Ungaran
X-ORIGINAL-URL:https://sttkn.ac.id
X-WR-CALDESC:Events for STTKN Ungaran
REFRESH-INTERVAL;VALUE=DURATION:PT1H
X-Robots-Tag:noindex
X-PUBLISHED-TTL:PT1H
BEGIN:VTIMEZONE
TZID:UTC
BEGIN:STANDARD
TZOFFSETFROM:+0000
TZOFFSETTO:+0000
TZNAME:UTC
DTSTART:20220101T000000
END:STANDARD
END:VTIMEZONE
BEGIN:VEVENT
DTSTART;TZID=UTC:20220730T080000
DTEND;TZID=UTC:20220730T170000
DTSTAMP:20260419T162703
CREATED:20220704T044214Z
LAST-MODIFIED:20220704T044312Z
UID:2278-1659168000-1659200400@sttkn.ac.id
SUMMARY:Tahun Baru Islam 1444 H
DESCRIPTION:
URL:https://sttkn.ac.id/kalender-akademik/tahun-baru-islam-1444-h/
END:VEVENT
END:VCALENDAR