BEGIN:VCALENDAR
VERSION:2.0
PRODID:-//STTKN Ungaran - ECPv5.14.1//NONSGML v1.0//EN
CALSCALE:GREGORIAN
METHOD:PUBLISH
X-WR-CALNAME:STTKN Ungaran
X-ORIGINAL-URL:https://sttkn.ac.id
X-WR-CALDESC:Events for STTKN Ungaran
REFRESH-INTERVAL;VALUE=DURATION:PT1H
X-Robots-Tag:noindex
X-PUBLISHED-TTL:PT1H
BEGIN:VTIMEZONE
TZID:UTC
BEGIN:STANDARD
TZOFFSETFROM:+0000
TZOFFSETTO:+0000
TZNAME:UTC
DTSTART:20220101T000000
END:STANDARD
END:VTIMEZONE
BEGIN:VEVENT
DTSTART;TZID=UTC:20220713T080000
DTEND;TZID=UTC:20220714T170000
DTSTAMP:20260422T171604
CREATED:20220704T031113Z
LAST-MODIFIED:20220704T031113Z
UID:2252-1657699200-1657818000@sttkn.ac.id
SUMMARY:Audit Mutu Internal Program Studi Teologi & Program Studi Pendidikan Agama Kristen
DESCRIPTION:
URL:https://sttkn.ac.id/kalender-akademik/audit-mutu-internal-program-studi-teologi-program-studi-pendidikan-agama-kristen/
END:VEVENT
END:VCALENDAR